BEGIN:VCALENDAR
VERSION:2.0
PRODID:-//Sveta Ana Zagreb - ECPv5.9.1//NONSGML v1.0//EN
CALSCALE:GREGORIAN
METHOD:PUBLISH
X-WR-CALNAME:Sveta Ana Zagreb
X-ORIGINAL-URL:https://www.sv-ana.hr
X-WR-CALDESC:Događanja za Sveta Ana Zagreb
BEGIN:VTIMEZONE
TZID:UTC
BEGIN:STANDARD
TZOFFSETFROM:+0000
TZOFFSETTO:+0000
TZNAME:UTC
DTSTART:20220101T000000
END:STANDARD
END:VTIMEZONE
BEGIN:VEVENT
DTSTART;TZID=UTC:20220921T080000
DTEND;TZID=UTC:20220921T170000
DTSTAMP:20260423T082253
CREATED:20220922T090704Z
LAST-MODIFIED:20220922T091106Z
UID:1522-1663747200-1663779600@www.sv-ana.hr
SUMMARY:Izlet korisnika u Opatiju
DESCRIPTION:Izlet korisnika u Opatiju
URL:https://www.sv-ana.hr/dogadaj/izlet-korisnika-u-opatiju/
CATEGORIES:Događanja
ATTACH;FMTTYPE=image/jpeg:https://www.sv-ana.hr/wp-content/uploads/2022/09/3.jpg
END:VEVENT
END:VCALENDAR